BEGIN:VCALENDAR
VERSION:2.0
PRODID:-//AUX INN - ECPv6.0.11//NONSGML v1.0//EN
CALSCALE:GREGORIAN
METHOD:PUBLISH
X-ORIGINAL-URL:https://aux-inn.de
X-WR-CALDESC:Veranstaltungen für AUX INN
REFRESH-INTERVAL;VALUE=DURATION:PT1H
X-Robots-Tag:noindex
X-PUBLISHED-TTL:PT1H
BEGIN:VTIMEZONE
TZID:Europe/Berlin
BEGIN:DAYLIGHT
TZOFFSETFROM:+0100
TZOFFSETTO:+0200
TZNAME:CEST
DTSTART:20210328T010000
END:DAYLIGHT
BEGIN:STANDARD
TZOFFSETFROM:+0200
TZOFFSETTO:+0100
TZNAME:CET
DTSTART:20211031T010000
END:STANDARD
END:VTIMEZONE
BEGIN:VEVENT
DTSTART;TZID=Europe/Berlin:20210520T140000
DTEND;TZID=Europe/Berlin:20210520T190000
DTSTAMP:20260422T110621
CREATED:20210520T145937Z
LAST-MODIFIED:20210714T134853Z
UID:5522-1621519200-1621537200@aux-inn.de
SUMMARY:Online Retro Escaperoom
DESCRIPTION:In unserem Retro-Escaperoom erwartet dich ab dem 11.05.21 bis zum 21.08.21 eine einzigartige Zeitreise in die Vergangenheit. Tauch in die verschiedenen Jahrzehnte ein\, und lass dich überraschen\, denn jeder Raum hält neue Aufgaben für dich bereit. Aber es wird nicht einfach alle Rätsel und Aufgaben zu lösen\, nimmst du die Herausforderung an?! Wer es bis zum letzten Raum schafft bekommt einen Preis\, also viel Spaß beim Rätseln!
URL:https://aux-inn.de/event/online-retro-escaperoom/
LOCATION:Kosmos\, Anna-German-Weg 1\, 86159 Augsburg\, Deutschland
CATEGORIES:spielen
ATTACH;FMTTYPE=image/png:https://aux-inn.de/wp-content/uploads/2021/05/Aux-Inn-online-Escaperoom-.png
ORGANIZER;CN="Anna":MAILTO:dreizehn@sjr-a.de
END:VEVENT
BEGIN:VEVENT
DTSTART;TZID=Europe/Berlin:20210521T140000
DTEND;TZID=Europe/Berlin:20210521T190000
DTSTAMP:20260422T110621
CREATED:20210520T145937Z
LAST-MODIFIED:20210714T134854Z
UID:5525-1621605600-1621623600@aux-inn.de
SUMMARY:Online Retro Escaperoom
DESCRIPTION:In unserem Retro-Escaperoom erwartet dich ab dem 11.05.21 bis zum 21.08.21 eine einzigartige Zeitreise in die Vergangenheit. Tauch in die verschiedenen Jahrzehnte ein\, und lass dich überraschen\, denn jeder Raum hält neue Aufgaben für dich bereit. Aber es wird nicht einfach alle Rätsel und Aufgaben zu lösen\, nimmst du die Herausforderung an?! Wer es bis zum letzten Raum schafft bekommt einen Preis\, also viel Spaß beim Rätseln!
URL:https://aux-inn.de/event/online-retro-escaperoom-2021-05-21/
LOCATION:Kosmos\, Anna-German-Weg 1\, 86159 Augsburg\, Deutschland
CATEGORIES:spielen
ATTACH;FMTTYPE=image/png:https://aux-inn.de/wp-content/uploads/2021/05/Aux-Inn-online-Escaperoom-.png
ORGANIZER;CN="Anna":MAILTO:dreizehn@sjr-a.de
END:VEVENT
BEGIN:VEVENT
DTSTART;TZID=Europe/Berlin:20210522T140000
DTEND;TZID=Europe/Berlin:20210522T190000
DTSTAMP:20260422T110621
CREATED:20210520T145937Z
LAST-MODIFIED:20210714T134855Z
UID:5526-1621692000-1621710000@aux-inn.de
SUMMARY:Online Retro Escaperoom
DESCRIPTION:In unserem Retro-Escaperoom erwartet dich ab dem 11.05.21 bis zum 21.08.21 eine einzigartige Zeitreise in die Vergangenheit. Tauch in die verschiedenen Jahrzehnte ein\, und lass dich überraschen\, denn jeder Raum hält neue Aufgaben für dich bereit. Aber es wird nicht einfach alle Rätsel und Aufgaben zu lösen\, nimmst du die Herausforderung an?! Wer es bis zum letzten Raum schafft bekommt einen Preis\, also viel Spaß beim Rätseln!
URL:https://aux-inn.de/event/online-retro-escaperoom-2021-05-22/
LOCATION:Kosmos\, Anna-German-Weg 1\, 86159 Augsburg\, Deutschland
CATEGORIES:spielen
ATTACH;FMTTYPE=image/png:https://aux-inn.de/wp-content/uploads/2021/05/Aux-Inn-online-Escaperoom-.png
ORGANIZER;CN="Anna":MAILTO:dreizehn@sjr-a.de
END:VEVENT
BEGIN:VEVENT
DTSTART;TZID=Europe/Berlin:20210525T140000
DTEND;TZID=Europe/Berlin:20210525T190000
DTSTAMP:20260422T110621
CREATED:20210520T145937Z
LAST-MODIFIED:20210714T134855Z
UID:5527-1621951200-1621969200@aux-inn.de
SUMMARY:Online Retro Escaperoom
DESCRIPTION:In unserem Retro-Escaperoom erwartet dich ab dem 11.05.21 bis zum 21.08.21 eine einzigartige Zeitreise in die Vergangenheit. Tauch in die verschiedenen Jahrzehnte ein\, und lass dich überraschen\, denn jeder Raum hält neue Aufgaben für dich bereit. Aber es wird nicht einfach alle Rätsel und Aufgaben zu lösen\, nimmst du die Herausforderung an?! Wer es bis zum letzten Raum schafft bekommt einen Preis\, also viel Spaß beim Rätseln!
URL:https://aux-inn.de/event/online-retro-escaperoom-2021-05-25/
LOCATION:Kosmos\, Anna-German-Weg 1\, 86159 Augsburg\, Deutschland
CATEGORIES:spielen
ATTACH;FMTTYPE=image/png:https://aux-inn.de/wp-content/uploads/2021/05/Aux-Inn-online-Escaperoom-.png
ORGANIZER;CN="Anna":MAILTO:dreizehn@sjr-a.de
END:VEVENT
BEGIN:VEVENT
DTSTART;TZID=Europe/Berlin:20210526T140000
DTEND;TZID=Europe/Berlin:20210526T190000
DTSTAMP:20260422T110621
CREATED:20210520T145937Z
LAST-MODIFIED:20210714T134855Z
UID:5528-1622037600-1622055600@aux-inn.de
SUMMARY:Online Retro Escaperoom
DESCRIPTION:In unserem Retro-Escaperoom erwartet dich ab dem 11.05.21 bis zum 21.08.21 eine einzigartige Zeitreise in die Vergangenheit. Tauch in die verschiedenen Jahrzehnte ein\, und lass dich überraschen\, denn jeder Raum hält neue Aufgaben für dich bereit. Aber es wird nicht einfach alle Rätsel und Aufgaben zu lösen\, nimmst du die Herausforderung an?! Wer es bis zum letzten Raum schafft bekommt einen Preis\, also viel Spaß beim Rätseln!
URL:https://aux-inn.de/event/online-retro-escaperoom-2021-05-26/
LOCATION:Kosmos\, Anna-German-Weg 1\, 86159 Augsburg\, Deutschland
CATEGORIES:spielen
ATTACH;FMTTYPE=image/png:https://aux-inn.de/wp-content/uploads/2021/05/Aux-Inn-online-Escaperoom-.png
ORGANIZER;CN="Anna":MAILTO:dreizehn@sjr-a.de
END:VEVENT
BEGIN:VEVENT
DTSTART;TZID=Europe/Berlin:20210527T140000
DTEND;TZID=Europe/Berlin:20210527T190000
DTSTAMP:20260422T110621
CREATED:20210520T145937Z
LAST-MODIFIED:20210714T134856Z
UID:5529-1622124000-1622142000@aux-inn.de
SUMMARY:Online Retro Escaperoom
DESCRIPTION:In unserem Retro-Escaperoom erwartet dich ab dem 11.05.21 bis zum 21.08.21 eine einzigartige Zeitreise in die Vergangenheit. Tauch in die verschiedenen Jahrzehnte ein\, und lass dich überraschen\, denn jeder Raum hält neue Aufgaben für dich bereit. Aber es wird nicht einfach alle Rätsel und Aufgaben zu lösen\, nimmst du die Herausforderung an?! Wer es bis zum letzten Raum schafft bekommt einen Preis\, also viel Spaß beim Rätseln!
URL:https://aux-inn.de/event/online-retro-escaperoom-2021-05-27/
LOCATION:Kosmos\, Anna-German-Weg 1\, 86159 Augsburg\, Deutschland
CATEGORIES:spielen
ATTACH;FMTTYPE=image/png:https://aux-inn.de/wp-content/uploads/2021/05/Aux-Inn-online-Escaperoom-.png
ORGANIZER;CN="Anna":MAILTO:dreizehn@sjr-a.de
END:VEVENT
BEGIN:VEVENT
DTSTART;TZID=Europe/Berlin:20210528T140000
DTEND;TZID=Europe/Berlin:20210528T190000
DTSTAMP:20260422T110621
CREATED:20210520T145937Z
LAST-MODIFIED:20210714T134856Z
UID:5530-1622210400-1622228400@aux-inn.de
SUMMARY:Online Retro Escaperoom
DESCRIPTION:In unserem Retro-Escaperoom erwartet dich ab dem 11.05.21 bis zum 21.08.21 eine einzigartige Zeitreise in die Vergangenheit. Tauch in die verschiedenen Jahrzehnte ein\, und lass dich überraschen\, denn jeder Raum hält neue Aufgaben für dich bereit. Aber es wird nicht einfach alle Rätsel und Aufgaben zu lösen\, nimmst du die Herausforderung an?! Wer es bis zum letzten Raum schafft bekommt einen Preis\, also viel Spaß beim Rätseln!
URL:https://aux-inn.de/event/online-retro-escaperoom-2021-05-28/
LOCATION:Kosmos\, Anna-German-Weg 1\, 86159 Augsburg\, Deutschland
CATEGORIES:spielen
ATTACH;FMTTYPE=image/png:https://aux-inn.de/wp-content/uploads/2021/05/Aux-Inn-online-Escaperoom-.png
ORGANIZER;CN="Anna":MAILTO:dreizehn@sjr-a.de
END:VEVENT
BEGIN:VEVENT
DTSTART;TZID=Europe/Berlin:20210529T140000
DTEND;TZID=Europe/Berlin:20210529T190000
DTSTAMP:20260422T110621
CREATED:20210520T145937Z
LAST-MODIFIED:20210714T134857Z
UID:5531-1622296800-1622314800@aux-inn.de
SUMMARY:Online Retro Escaperoom
DESCRIPTION:In unserem Retro-Escaperoom erwartet dich ab dem 11.05.21 bis zum 21.08.21 eine einzigartige Zeitreise in die Vergangenheit. Tauch in die verschiedenen Jahrzehnte ein\, und lass dich überraschen\, denn jeder Raum hält neue Aufgaben für dich bereit. Aber es wird nicht einfach alle Rätsel und Aufgaben zu lösen\, nimmst du die Herausforderung an?! Wer es bis zum letzten Raum schafft bekommt einen Preis\, also viel Spaß beim Rätseln!
URL:https://aux-inn.de/event/online-retro-escaperoom-2021-05-29/
LOCATION:Kosmos\, Anna-German-Weg 1\, 86159 Augsburg\, Deutschland
CATEGORIES:spielen
ATTACH;FMTTYPE=image/png:https://aux-inn.de/wp-content/uploads/2021/05/Aux-Inn-online-Escaperoom-.png
ORGANIZER;CN="Anna":MAILTO:dreizehn@sjr-a.de
END:VEVENT
END:VCALENDAR