BEGIN:VCALENDAR
VERSION:2.0
PRODID:-//AUX INN - ECPv6.0.11//NONSGML v1.0//EN
CALSCALE:GREGORIAN
METHOD:PUBLISH
X-WR-CALNAME:AUX INN
X-ORIGINAL-URL:https://aux-inn.de
X-WR-CALDESC:Veranstaltungen für AUX INN
REFRESH-INTERVAL;VALUE=DURATION:PT1H
X-Robots-Tag:noindex
X-PUBLISHED-TTL:PT1H
BEGIN:VTIMEZONE
TZID:Europe/Berlin
BEGIN:DAYLIGHT
TZOFFSETFROM:+0100
TZOFFSETTO:+0200
TZNAME:CEST
DTSTART:20210328T010000
END:DAYLIGHT
BEGIN:STANDARD
TZOFFSETFROM:+0200
TZOFFSETTO:+0100
TZNAME:CET
DTSTART:20211031T010000
END:STANDARD
END:VTIMEZONE
BEGIN:VEVENT
DTSTART;TZID=Europe/Berlin:20211204T190000
DTEND;TZID=Europe/Berlin:20211204T210000
DTSTAMP:20260422T122541
CREATED:20211009T135406Z
LAST-MODIFIED:20211009T135406Z
UID:7030-1638644400-1638651600@aux-inn.de
SUMMARY:Nachtbasketball
DESCRIPTION:Während der Wintermonate können sich sportbegeisterte Jugendliche aus Kriegshaber jeden Samstagabend für zwei Stunden beim Nachtbasketball auspowern. Zum Abschluss der Saison wird ein Turnier veranstaltet. Wir wünschen euch viel Spaß.
URL:https://aux-inn.de/event/nachtbasketball-2021-12-04/
LOCATION:Turnhalle Sommestraße\, Sommestraße 70\, Augsburg\, 86156\, Deutschland
CATEGORIES:Sport,trainieren,Turnier
ATTACH;FMTTYPE=image/png:https://aux-inn.de/wp-content/uploads/2021/10/Design-ohne-Titel.png
END:VEVENT
BEGIN:VEVENT
DTSTART;TZID=Europe/Berlin:20211211T190000
DTEND;TZID=Europe/Berlin:20211211T210000
DTSTAMP:20260422T122541
CREATED:20211009T135406Z
LAST-MODIFIED:20211009T135406Z
UID:7031-1639249200-1639256400@aux-inn.de
SUMMARY:Nachtbasketball
DESCRIPTION:Während der Wintermonate können sich sportbegeisterte Jugendliche aus Kriegshaber jeden Samstagabend für zwei Stunden beim Nachtbasketball auspowern. Zum Abschluss der Saison wird ein Turnier veranstaltet. Wir wünschen euch viel Spaß.
URL:https://aux-inn.de/event/nachtbasketball-2021-12-11/
LOCATION:Turnhalle Sommestraße\, Sommestraße 70\, Augsburg\, 86156\, Deutschland
CATEGORIES:Sport,trainieren,Turnier
ATTACH;FMTTYPE=image/png:https://aux-inn.de/wp-content/uploads/2021/10/Design-ohne-Titel.png
END:VEVENT
BEGIN:VEVENT
DTSTART;TZID=Europe/Berlin:20211218T190000
DTEND;TZID=Europe/Berlin:20211218T210000
DTSTAMP:20260422T122541
CREATED:20211009T135406Z
LAST-MODIFIED:20211009T135406Z
UID:7032-1639854000-1639861200@aux-inn.de
SUMMARY:Nachtbasketball
DESCRIPTION:Während der Wintermonate können sich sportbegeisterte Jugendliche aus Kriegshaber jeden Samstagabend für zwei Stunden beim Nachtbasketball auspowern. Zum Abschluss der Saison wird ein Turnier veranstaltet. Wir wünschen euch viel Spaß.
URL:https://aux-inn.de/event/nachtbasketball-2021-12-18/
LOCATION:Turnhalle Sommestraße\, Sommestraße 70\, Augsburg\, 86156\, Deutschland
CATEGORIES:Sport,trainieren,Turnier
ATTACH;FMTTYPE=image/png:https://aux-inn.de/wp-content/uploads/2021/10/Design-ohne-Titel.png
END:VEVENT
END:VCALENDAR