BEGIN:VCALENDAR
VERSION:2.0
PRODID:-//AUX INN - ECPv6.0.11//NONSGML v1.0//EN
CALSCALE:GREGORIAN
METHOD:PUBLISH
X-WR-CALNAME:AUX INN
X-ORIGINAL-URL:https://aux-inn.de
X-WR-CALDESC:Veranstaltungen für AUX INN
REFRESH-INTERVAL;VALUE=DURATION:PT1H
X-Robots-Tag:noindex
X-PUBLISHED-TTL:PT1H
BEGIN:VTIMEZONE
TZID:Europe/Berlin
BEGIN:DAYLIGHT
TZOFFSETFROM:+0100
TZOFFSETTO:+0200
TZNAME:CEST
DTSTART:20220327T010000
END:DAYLIGHT
BEGIN:STANDARD
TZOFFSETFROM:+0200
TZOFFSETTO:+0100
TZNAME:CET
DTSTART:20221030T010000
END:STANDARD
END:VTIMEZONE
BEGIN:VEVENT
DTSTART;TZID=Europe/Berlin:20220401T190000
DTEND;TZID=Europe/Berlin:20220401T210000
DTSTAMP:20260422T023120
CREATED:20220122T152456Z
LAST-MODIFIED:20220122T152456Z
UID:7571-1648839600-1648846800@aux-inn.de
SUMMARY:Hallenfußball
DESCRIPTION:Fußball in der Halle der Drei Auen Schule ist eine lange gepflegte Tradition. Auch dieses Jahr könnt ihr euch wieder jeden Freitagabend mit den anderen Teams messen
URL:https://aux-inn.de/event/hallenfussball-2022-04-01/
LOCATION:Streetwork Nord\, Zollernstrasse 41\, Augsburg\, 86154
CATEGORIES:Sport
ATTACH;FMTTYPE=image/png:https://aux-inn.de/wp-content/uploads/2022/01/Screenshot-2022-01-22-at-16-24-25-Paul-Cordi-und-Lukas-streetwork-nord-sjraugsburg-•-Instagram-Fotos-und-Videos.png
ORGANIZER;CN="Paul":MAILTO:p.waninger@SJR-A.de
END:VEVENT
END:VCALENDAR