BEGIN:VCALENDAR
VERSION:2.0
PRODID:-//AUX INN - ECPv6.0.11//NONSGML v1.0//EN
CALSCALE:GREGORIAN
METHOD:PUBLISH
X-WR-CALNAME:AUX INN
X-ORIGINAL-URL:https://aux-inn.de
X-WR-CALDESC:Veranstaltungen für AUX INN
REFRESH-INTERVAL;VALUE=DURATION:PT1H
X-Robots-Tag:noindex
X-PUBLISHED-TTL:PT1H
BEGIN:VTIMEZONE
TZID:Europe/Berlin
BEGIN:DAYLIGHT
TZOFFSETFROM:+0100
TZOFFSETTO:+0200
TZNAME:CEST
DTSTART:20210328T010000
END:DAYLIGHT
BEGIN:STANDARD
TZOFFSETFROM:+0200
TZOFFSETTO:+0100
TZNAME:CET
DTSTART:20211031T010000
END:STANDARD
END:VTIMEZONE
BEGIN:VEVENT
DTSTART;TZID=Europe/Berlin:20210203T160000
DTEND;TZID=Europe/Berlin:20210203T180000
DTSTAMP:20260421T131237
CREATED:20210115T174121Z
LAST-MODIFIED:20210401T093026Z
UID:424-1612368000-1612375200@aux-inn.de
SUMMARY:Girlz Talk
DESCRIPTION:Du willst nur unter Frauen quatschen? Du willst Spielen\, Basteln oder einfach nur eine gute Zeit mit Deinen Freundinnen haben? Dann bist Du hier richtig! \nWenn Du teilnehmen willst:\nKlicke auf den Discord-Link und Du wirst der Girls*-Gruppe hinzugefügt oder Schreibe uns eine Nachricht\, um bei MS Teams dabei zu sein. \nWir freuen uns auf Dich!
URL:https://aux-inn.de/event/girlz-talk-2021-02-03/
LOCATION:fabrik\, Schackstr. 40c\, Augsburg\, 86165\, Deutschland
CATEGORIES:abhängen
ATTACH;FMTTYPE=image/jpeg:https://aux-inn.de/wp-content/uploads/2021/01/usa-2647092_960_720-e1617269409207.jpg
ORGANIZER;CN="Daniela":MAILTO:fabrik@sjr-a.de
END:VEVENT
BEGIN:VEVENT
DTSTART;TZID=Europe/Berlin:20210210T160000
DTEND;TZID=Europe/Berlin:20210210T180000
DTSTAMP:20260421T131237
CREATED:20210115T174121Z
LAST-MODIFIED:20210401T093027Z
UID:425-1612972800-1612980000@aux-inn.de
SUMMARY:Girlz Talk
DESCRIPTION:Du willst nur unter Frauen quatschen? Du willst Spielen\, Basteln oder einfach nur eine gute Zeit mit Deinen Freundinnen haben? Dann bist Du hier richtig! \nWenn Du teilnehmen willst:\nKlicke auf den Discord-Link und Du wirst der Girls*-Gruppe hinzugefügt oder Schreibe uns eine Nachricht\, um bei MS Teams dabei zu sein. \nWir freuen uns auf Dich!
URL:https://aux-inn.de/event/girlz-talk-2021-02-10/
LOCATION:fabrik\, Schackstr. 40c\, Augsburg\, 86165\, Deutschland
CATEGORIES:abhängen
ATTACH;FMTTYPE=image/jpeg:https://aux-inn.de/wp-content/uploads/2021/01/usa-2647092_960_720-e1617269409207.jpg
ORGANIZER;CN="Daniela":MAILTO:fabrik@sjr-a.de
END:VEVENT
BEGIN:VEVENT
DTSTART;TZID=Europe/Berlin:20210217T160000
DTEND;TZID=Europe/Berlin:20210217T180000
DTSTAMP:20260421T131237
CREATED:20210115T174121Z
LAST-MODIFIED:20210401T093027Z
UID:426-1613577600-1613584800@aux-inn.de
SUMMARY:Girlz Talk
DESCRIPTION:Du willst nur unter Frauen quatschen? Du willst Spielen\, Basteln oder einfach nur eine gute Zeit mit Deinen Freundinnen haben? Dann bist Du hier richtig! \nWenn Du teilnehmen willst:\nKlicke auf den Discord-Link und Du wirst der Girls*-Gruppe hinzugefügt oder Schreibe uns eine Nachricht\, um bei MS Teams dabei zu sein. \nWir freuen uns auf Dich!
URL:https://aux-inn.de/event/girlz-talk-2021-02-17/
LOCATION:fabrik\, Schackstr. 40c\, Augsburg\, 86165\, Deutschland
CATEGORIES:abhängen
ATTACH;FMTTYPE=image/jpeg:https://aux-inn.de/wp-content/uploads/2021/01/usa-2647092_960_720-e1617269409207.jpg
ORGANIZER;CN="Daniela":MAILTO:fabrik@sjr-a.de
END:VEVENT
BEGIN:VEVENT
DTSTART;TZID=Europe/Berlin:20210224T160000
DTEND;TZID=Europe/Berlin:20210224T180000
DTSTAMP:20260421T131237
CREATED:20210115T174121Z
LAST-MODIFIED:20210401T093027Z
UID:427-1614182400-1614189600@aux-inn.de
SUMMARY:Girlz Talk
DESCRIPTION:Du willst nur unter Frauen quatschen? Du willst Spielen\, Basteln oder einfach nur eine gute Zeit mit Deinen Freundinnen haben? Dann bist Du hier richtig! \nWenn Du teilnehmen willst:\nKlicke auf den Discord-Link und Du wirst der Girls*-Gruppe hinzugefügt oder Schreibe uns eine Nachricht\, um bei MS Teams dabei zu sein. \nWir freuen uns auf Dich!
URL:https://aux-inn.de/event/girlz-talk-2021-02-24/
LOCATION:fabrik\, Schackstr. 40c\, Augsburg\, 86165\, Deutschland
CATEGORIES:abhängen
ATTACH;FMTTYPE=image/jpeg:https://aux-inn.de/wp-content/uploads/2021/01/usa-2647092_960_720-e1617269409207.jpg
ORGANIZER;CN="Daniela":MAILTO:fabrik@sjr-a.de
END:VEVENT
END:VCALENDAR