BEGIN:VCALENDAR
VERSION:2.0
PRODID:-//AUX INN - ECPv6.0.11//NONSGML v1.0//EN
CALSCALE:GREGORIAN
METHOD:PUBLISH
X-ORIGINAL-URL:https://aux-inn.de
X-WR-CALDESC:Veranstaltungen für AUX INN
REFRESH-INTERVAL;VALUE=DURATION:PT1H
X-Robots-Tag:noindex
X-PUBLISHED-TTL:PT1H
BEGIN:VTIMEZONE
TZID:Europe/Berlin
BEGIN:DAYLIGHT
TZOFFSETFROM:+0100
TZOFFSETTO:+0200
TZNAME:CEST
DTSTART:20220327T010000
END:DAYLIGHT
BEGIN:STANDARD
TZOFFSETFROM:+0200
TZOFFSETTO:+0100
TZNAME:CET
DTSTART:20221030T010000
END:STANDARD
END:VTIMEZONE
BEGIN:VEVENT
DTSTART;TZID=Europe/Berlin:20220430T140000
DTEND;TZID=Europe/Berlin:20220430T170000
DTSTAMP:20260420T081718
CREATED:20220218T145851Z
LAST-MODIFIED:20220303T151614Z
UID:7781-1651327200-1651338000@aux-inn.de
SUMMARY:Samstagsbrunch
DESCRIPTION:Wir starten entspannt in den Samstag mit Semmeln\, Aufstrich\, Gemüse und Obst. Kommt vorbei und lasst es euch schmecken!
URL:https://aux-inn.de/event/samstagsbrunch-2022-04-30/
LOCATION:#dreizehn\, Von-Parseval-Str. 20 a\, Augsburg\, 86159\, Deutschland
CATEGORIES:abhängen
ATTACH;FMTTYPE=image/jpeg:https://aux-inn.de/wp-content/uploads/2022/02/food-gb0de52cd3_640.jpg
END:VEVENT
END:VCALENDAR