BEGIN:VCALENDAR
VERSION:2.0
PRODID:-//AUX INN - ECPv6.0.11//NONSGML v1.0//EN
CALSCALE:GREGORIAN
METHOD:PUBLISH
X-ORIGINAL-URL:https://aux-inn.de
X-WR-CALDESC:Veranstaltungen für AUX INN
REFRESH-INTERVAL;VALUE=DURATION:PT1H
X-Robots-Tag:noindex
X-PUBLISHED-TTL:PT1H
BEGIN:VTIMEZONE
TZID:Europe/Berlin
BEGIN:DAYLIGHT
TZOFFSETFROM:+0100
TZOFFSETTO:+0200
TZNAME:CEST
DTSTART:20210328T010000
END:DAYLIGHT
BEGIN:STANDARD
TZOFFSETFROM:+0200
TZOFFSETTO:+0100
TZNAME:CET
DTSTART:20211031T010000
END:STANDARD
END:VTIMEZONE
BEGIN:VEVENT
DTSTART;VALUE=DATE:20210424
DTEND;VALUE=DATE:20210425
DTSTAMP:20260423T033417
CREATED:20210119T134913Z
LAST-MODIFIED:20210325T143246Z
UID:1461-1619222400-1619308799@aux-inn.de
SUMMARY:Food around the World: Breakfast Quiz
DESCRIPTION:Gönnt Euch ’nen Kaffee oder Tee und macht mit beim Samstags-Quiz rund um das Thema ‚Frühstück‘! Schönes Wochenende!
URL:https://aux-inn.de/event/breakfast-quiz-2021-04-24/
LOCATION:südstern\, Hofackerstraße 19\, Augsburg\, 86179\, Deutschland
CATEGORIES:abhängen,Beratung,kochen
ATTACH;FMTTYPE=image/jpeg:https://aux-inn.de/wp-content/uploads/2021/01/breakfast1280-e1616682730936.jpg
ORGANIZER;CN="Eveline":MAILTO:suedstern@sjr-a.de
END:VEVENT
END:VCALENDAR